BEGIN:VCALENDAR
VERSION:2.0
PRODID:-//POT SRCA - ECPv6.15.20//NONSGML v1.0//EN
CALSCALE:GREGORIAN
METHOD:PUBLISH
X-ORIGINAL-URL:https://www.milenamatko.com
X-WR-CALDESC:Dogodki za POT SRCA
REFRESH-INTERVAL;VALUE=DURATION:PT1H
X-Robots-Tag:noindex
X-PUBLISHED-TTL:PT1H
BEGIN:VTIMEZONE
TZID:Europe/Ljubljana
BEGIN:DAYLIGHT
TZOFFSETFROM:+0100
TZOFFSETTO:+0200
TZNAME:CEST
DTSTART:20170326T010000
END:DAYLIGHT
BEGIN:STANDARD
TZOFFSETFROM:+0200
TZOFFSETTO:+0100
TZNAME:CET
DTSTART:20171029T010000
END:STANDARD
BEGIN:DAYLIGHT
TZOFFSETFROM:+0100
TZOFFSETTO:+0200
TZNAME:CEST
DTSTART:20180325T010000
END:DAYLIGHT
BEGIN:STANDARD
TZOFFSETFROM:+0200
TZOFFSETTO:+0100
TZNAME:CET
DTSTART:20181028T010000
END:STANDARD
BEGIN:DAYLIGHT
TZOFFSETFROM:+0100
TZOFFSETTO:+0200
TZNAME:CEST
DTSTART:20190331T010000
END:DAYLIGHT
BEGIN:STANDARD
TZOFFSETFROM:+0200
TZOFFSETTO:+0100
TZNAME:CET
DTSTART:20191027T010000
END:STANDARD
END:VTIMEZONE
BEGIN:VEVENT
DTSTART;TZID=Europe/Ljubljana:20180519T100000
DTEND;TZID=Europe/Ljubljana:20180519T200000
DTSTAMP:20260425T210238
CREATED:20180118T210033Z
LAST-MODIFIED:20181202T173809Z
UID:4390-1526724000-1526760000@www.milenamatko.com
SUMMARY:Delavnica »ŽENSKA SEM«: Divja ženska in poslovna boginja
DESCRIPTION:»Divja ženska v meni strastno tolče po bobnih\, rjove\, pleše\, kriči.\nDanes je ona na odru in hoče vidnost\, pojavnost\, veličino mogočnosti.\nMagični ples ženskosti bo odplesala do konca\, do ekstaze Ljubezni in povedala vse\, kar tisočletja dolgo že na srcu ji leži.«\n \n  \nSklop štirih delavnic »Ženska sem«  je namenjen ženskam\, arhetipskemu pogledu nase. Prehajamo skozi štiri obdobja oz. področja v življenju\, ki nam pomagajo razumeti svoje globine\, sprejeti svetost ženskosti ter objeti žensko telo skupaj s ciklusi\, po katerih mesečno plujemo. \nŽenske v sebi nosimo neizmerno moč. Nosilke smo novega življenja\, v rokah držimo plamenico srčnosti. V nas živijo spomini na svečenice v belem\, na mogočne kraljice\, na veličastne boginje\, na ljubeče matere\, na strastne žene\, na divje bojevnice\, na modrosti polne starke. Zato si podajmo roke in skupaj odplešimo veličasten ples ženskosti\, da omamni cvet ljubezni v nas zopet zadehti. Svet nas potrebuje – potrebuje našo nežnost in milino\, strast in odločnost\, ljubezen in toplino\, modrost in veličino. \n  \nDelavnice potekajo ob sobotah ob 10.00 uri (trajajo predvidoma do 20.00 ure z vmesnim odmorom za kosilo). Predvideni termini: 07.04.18\, 21.04.18\, 19.05.18 in 02.06.18. Cena posamezne delavnice je 75 EUR. \n  \nKratka vsebina: \n\nDruženje »CVETOČA MLADENKA«; sobota\, 07.04.18\, ob 10.00 uri\n\nPosvetimo se začetnemu obdobju v življenju ženske. Sprejmemo lepoto ženskosti\, veličastno odstremo tančice sveta ženskih ciklusov. Objamemo svetost maternice\, vstopimo v čarobnost podarjanja novega življenja ter moč čutne spolnosti. Spregovorimo o izkušnjah\, ki so nas oblikovale kot hčerke\, dekleta in sestre ter odločilno vplivajo na potek celotnega življenja\, zlasti na odnos do sebe. \n\nDruženje »ČUTNA ŽENA IN LJUBEČA MATI«; sobota\, 21.04.18\, ob 10.00 uri\n\nLjubeče se zazremo po prostranih poljanah partnerstva in materinstva. Predamo se moči srčne ženske povezanosti\, odstremo lepoto svečane ustvarjalnosti – pogledamo\, na katerih področjih smo matere\, kaj vse ustvarjamo\, iz dneva v dan rojevamo. Spregovorimo o izkušnjah\, ki so nas oblikovale kot ljubimke in matere ter varuhinje spomina. \n\nDruženje »DIVJA ŽENSKA IN POSLOVNA BOGINJA«; sobota\, 19.05.18\, ob 10.00 uri\n\nŽenske ne glede na partnerstvo in materinstvo v sebi vedno ohranimo svojo samostojno bit\, pridih divje neukročenosti\, odločnega in jasnega nastopanja v družini in okolju. Podamo se v svet svojevrstne ženske poslovnosti\, kjer uporabljamo svojo intuitivno moč\, čut za lepoto in povezovalno energijo sodelovanja. Na delavnici spregovorimo o izkušnjah mentorstva (babištva)\, s svetlobo posijemo v najgloblja brezna teme in prebudimo bojevnico (amazonko)\, ki iz življenja odmetava vloge\, določene s strani okolice\, da znova rodi samo sebe\, si utre svojo lastno pot. \n\nDruženje »MODRA STARKA«; sobota\, 02.06.18\, ob 10.00 uri\n\nV zadnjem obdobju življenja\, ko se za žensko konča rodno obdobje\, v ospredje stopi ljubeča svetost babice ter večna modrost starke. Ženska se posveti svojim notranjim globinam\, na površje prinaša vizije\, pomembne zanjo in celoten rod\, postane vodnica svojim potomkam\, varuhinja doma\, odločna akterka v družbi\, opravlja obrede\, skrbi za rodovne korenine\, je v brezmejnem stiku z duhovnim svetom\, resnico in svojo mistično močjo. \n  \nPovabite svoje srce na tretjo delavnico »Ženska sem«: DIVJA ŽENSKA IN POSLOVNA BOGINJA\, na kateri se bomo prepustile valovom divje ženskosti in odlične poslovnosti. Začutile bomo pridih strastne neukročenosti\, se potopile v brezno teme in osvobodile našo ženskost ter postale srčne mentorice sebi in drugim. Za pripravo na delavnico v globinah svoje duše začutimo in zapišimo (zapis prinesimo s seboj):\n	Katero področje našega življenja kliče po svobodi\, po spremembi? Kje se čutimo zlorabljene\, zatrte\, utišane? Kaj potrebujemo\, da bi zares postale gospodarice svoje usode?\n	Smo se kdaj znašle v objemu trpljenja\, depresije\, tesnobe\, osamljenosti\, samomorilnosti\, neskončne žalosti? Smo pripravljene s svojo lučjo posijati v najgloblja brezna teme in znova zaživeti?\n	Koliko se zanašamo na svoje notranje vodstvo\, poslušamo intuicijo\, slutnje\, vizije? V kolikšni meri smo pripravljene svoje izkušnje in modrost deliti z drugimi\, jih spodbujati na njihovi poti rasti\, jih voditi? \n  \nKJE: Novo mesto\, Glavni trg 24\, Tempelj POT SRCA \nKDAJ: sobota\, 19.05.18\, ob 10.00 uri \nCENA: 75 EUR \nPRIJAVE: milena.matko@siol.net \n  \nDobrodošle tudi vaše znanke\, prijateljice\, sorodnice oz. vse ženske\, za katere čutite\, da jim bodo delavnice prinesle zadovoljstvo ter ljubeč blagoslov. \n  \nPrisrčno pozdravljene in obilo čarobnosti do snidenja\, \nMilena Matko
URL:https://www.milenamatko.com/dogodki/delavnica-zenska-sem-cutna-zena-in-ljubeca-mati/
LOCATION:Tempelj POT SRCA Novo mesto\, Glavni trg 24\, Novo mesto\, 8000\, Slovenija
CATEGORIES:Delavnica
ATTACH;FMTTYPE=image/jpeg:https://www.milenamatko.com/wp-content/uploads/2015/08/vrtnica.jpg
ORGANIZER;CN="Milena Matko":MAILTO: milena.matko@siol.net
END:VEVENT
END:VCALENDAR