BEGIN:VCALENDAR
VERSION:2.0
PRODID:-//POT SRCA - ECPv6.15.20//NONSGML v1.0//EN
CALSCALE:GREGORIAN
METHOD:PUBLISH
X-WR-CALNAME:POT SRCA
X-ORIGINAL-URL:https://www.milenamatko.com
X-WR-CALDESC:Dogodki za POT SRCA
REFRESH-INTERVAL;VALUE=DURATION:PT1H
X-Robots-Tag:noindex
X-PUBLISHED-TTL:PT1H
BEGIN:VTIMEZONE
TZID:Europe/Ljubljana
BEGIN:DAYLIGHT
TZOFFSETFROM:+0100
TZOFFSETTO:+0200
TZNAME:CEST
DTSTART:20180325T010000
END:DAYLIGHT
BEGIN:STANDARD
TZOFFSETFROM:+0200
TZOFFSETTO:+0100
TZNAME:CET
DTSTART:20181028T010000
END:STANDARD
BEGIN:DAYLIGHT
TZOFFSETFROM:+0100
TZOFFSETTO:+0200
TZNAME:CEST
DTSTART:20190331T010000
END:DAYLIGHT
BEGIN:STANDARD
TZOFFSETFROM:+0200
TZOFFSETTO:+0100
TZNAME:CET
DTSTART:20191027T010000
END:STANDARD
BEGIN:DAYLIGHT
TZOFFSETFROM:+0100
TZOFFSETTO:+0200
TZNAME:CEST
DTSTART:20200329T010000
END:DAYLIGHT
BEGIN:STANDARD
TZOFFSETFROM:+0200
TZOFFSETTO:+0100
TZNAME:CET
DTSTART:20201025T010000
END:STANDARD
END:VTIMEZONE
BEGIN:VEVENT
DTSTART;TZID=Europe/Ljubljana:20191215T100000
DTEND;TZID=Europe/Ljubljana:20191215T200000
DTSTAMP:20260424T160115
CREATED:20190807T111616Z
LAST-MODIFIED:20191023T101853Z
UID:5268-1576404000-1576440000@www.milenamatko.com
SUMMARY:Delavnica »Pot srca«: KRALJEVSKOST MOČI
DESCRIPTION:»Moč – magična beseda\, ob kateri srce radostno zapoje mi\, zaigra\, kri po žilah strastno zaplapola.  \nMoč – neskončna povezanost z ljubeznijo\, do popolnosti zlitost z dušo angelsko. Blagoslovljena moč\, ki uporabljam za dobro jo\, živim zares srčno.« \n  \nLjudje smo radi močni na vseh nivojih obstoja. Do resnične moči pridemo\, ko se v polnosti zavemo\, kdo smo\, ko začutimo povezanost z Ljubeznijo. Ko objamemo svojo dušo in odločno stopimo na pot popolne samostojnosti. \nZato povabimo svoje srce na četrto delavnico »POT SRCA«: Kraljevskost moči\, na kateri bomo vstopili v lastno moč\, začutili svoje vednote\, si izpovedali spoštovanje ter postali odgovoren gospodar svojega življenja. \nKJE: Ljubljana\, Kotnikova ulica 28\, Tempelj POT SRCA (soba 413)\nKDAJ: nedelja\, 15.12.19\, ob 10.00 uri\nCENA: 125 EUR\nPRIJAVE: milena.matko@siol.net\nS SEBOJ PRINESIMO: doma izdelano kraljevsko krono in ogrinjalo; začutimo svoje vrednote ter kodeks časti in napišimo\, kaj nam je v otroštvu in mladosti manjkalo tako materialno kot duhovno \nNajpogosteje izvajan sklop osmih delavnic »Pot Srca« je namenjen vsem\, ki bi se radi temeljito spoznali\, sprejeli\, razumeli\, dobili predstavo o sebi ter postavili trdne temelje svojega življenja. Na delavnicah dobimo globoko zavedanje\, kdo sploh smo in kakšen je namen prihoda na Zemljo\, kakšne vzorce smo prejeli po prednikih\, katere spomine prinašamo iz davnin\, kaj se nam je dogajalo v otroštvu in mladosti\, katere vrednote nam tlakujejo pot\, v čem smo zares dobri\, kaj imamo radi …\nVzpenjamo se po stopnicah našega življenja – pričnemo v trenutku pred spočetjem\, ko pred mojstri in vodniki podpišemo pogodbo z našimi starši ter izberemo poslanstvo. Nadaljujemo s fizičnim rojstvom in se s pomočjo sporočil posameznih čaker ter obredov\, ki ustrezajo slednjim\, pomikamo skozi življenje. Zaključimo s smrtjo\, ko prestopimo reko večnosti in se zlijemo z Ljubeznijo. \nDelavnice potekajo ob nedeljah ob 10.00 uri (predvidoma trajajo do 20.00 ure z vmesnim odmorom za kosilo). Termini do konca leta: 25.09.19\, 20.10.19\, 24.11.19\, 15.12.19.\nCena posamezne delavnice je 125 EUR. \nKratka vsebina: \n1. Uvodno srečanje »POSVEČENI DOGOVOR«\nPričnemo s predstavitvijo udeležencev in definiranjem namena obiskovanja delavnic. Nadaljujemo z vpogledom v pogodbo oz. posvečeni dogovor\, ki smo ga sklenili pred prihodom na Zemljo (soočimo se s svojim poslanstvom\, izbiro staršev\, spola\, imena\, časa in kraja rojstva\, pomembnimi osebami ter življenjskimi dogodki …). Namen prvega srečanja je\, da sprejmemo odgovornost za svoje življenje. Da se zavemo\, da smo se sami\, povsem zavestno podali na pot\, po kateri trenutno hodimo. \n2. Druženje »ČUDEŽ ŽIVLJENJA«\nPoglobimo se v svetost življenja\, v obdobje med spočetjem in sedmim letom starosti. Spregovorimo o zakonitostih\, ki vladajo v družini\, se posvetimo odnosu s starši oz. primarno družino\, raziščemo družinsko drevo (še zlasti smo pozorni na boleče izkušnje v rodu kot npr. ločitev\, splav\, nasilje\, odsotnost enega ali obeh staršev\, samomor …) ter objamemo svojo identiteto. \n3. Druženje »STRAST USTVARJANJA«\nRaziščemo obdobje med sedmim in štirinajstim letom starosti\, ko v ospredje stopi moč očeta in pričnemo vzpostavljati vezi z okolico. Posvetimo se našemu odnosu do ustvarjalnosti\, denarja/premoženja ter spolnosti. Spregovorimo tudi o pomenu zavestnega spočetja\, telegoniji\, prenašanju energij med partnerjema … \n4. Druženje »KRALJEVSKOST MOČI«\nPosvetimo se obdobju med zaključkom osnovnega šolanja ter 21-tim letom starosti\, ko prestopimo prag zrelosti\, izoblikujemo svojo identiteto\, se naučimo dejavno poskrbeti zase … Vstopimo v lastno moč\, začutimo svoje vrednote\, si izpovemo spoštovanjem ter zapišemo kodeks časti. Poiščemo način\, kako postati odgovoren gospodar svojega življenja. \n5. Druženje »LEPOTA LJUBEZNI«\nPredamo se čutenju ljubezni\, njenim tisočerim odtenkom\, si jo dovolimo sprejemati in dajati\, jo širiti ter s tem spreminjati nas same in svet vsenaokrog. Izvedemo obred poroke s samim sabo ter si odpustimo vse\, kar nas bremeni oz. preprečuje\, da bi se imeli neskončno radi. \n6. Druženje »SVETOST IZRAŽANJA«\nResnica nas osvobaja\, prinaša odrešitev\, dela čudeže. Zato se na delavnici potopimo v moč resnice\, odpremo vrata izražanju ter dovolimo svetlobi\, da nas objame. Položimo temelje zaupanja vase in poštenosti. Zazremo se v svetle in temne trenutke svojega bivanja ter dojamemo\, da imamo svobodno voljo\, da sami odločamo\, kaj bomo počeli s svojim življenjem. \n7. Druženje »VELIČINA MODROSTI«\nNa delavnici odpiramo svoje jasnočutne zaznave\, se prepustimo vodstvu intuicije. Dovolimo si pogledati svoje največje zaklade (talente\, darove) ter poiščemo način\, kako jih strastno uporabiti v dobro nas samih ter celotnega človeštva. Razrešimo ovire na poti do svojega mojstrstva. \n8. Druženje »RAZKOŠJE BOŽJEGA«\nVeličastno se prepustimo svoji domišljiji in božji milosti\, v polnosti se odpremo podpori duhovnega sveta. Iz življenja odslovimo vse\, kar je »mrtvo in končano«\, zato izvedemo simboličen pogreb. Povežemo se z vsemogočnostjo Boga. V meditaciji se poglobimo v občutke fizične smrti in v trenutke prehoda v večnost. \nLjudje smo v prvi vrsti energijska bitja in vsaka misel\, vsako dejanje iz tega in preteklih življenj\, iz zemeljskih in drugih dimenzij\, se odtisne\, zapiše v energijsko polje človeka. Slednjega nosimo povsod s sabo\, v slabem in dobrem\, ponoči in podnevi\, doma in na potepanjih po tujini. Na delavnicah s pomočjo igranja vlog dostopamo do zapisov duše vsakega posameznika\, drug drugemu odstiramo življenjske zgodbe\, meditiramo\, prisluhnemo kanaliziranim sporočilom naših vodnikov\, angelov\, starodavnih prednikov\, se predajamo zdravilni moči glasbe\, beremo zgodbe iz knjige »Po poti mojega Srca«\, odstiramo tančice vzporednih svetov … Delujemo istočasno na mentalnem\, čustvenem\, fizičnem in dušnem nivoju. \nDobrodošli tudi vaši znanci\, prijatelji oz. osebe\, za katere čutite\, da jim bodo delavnice prinesle zadovoljstvo ter ljubeč blagoslov. \nS spoštovanjem in ljubeznijo\,\nMilena Matko
URL:https://www.milenamatko.com/dogodki/delavnica-pot-srca-kraljevskost-moci-4/
LOCATION:Tempelj POT SRCA\, Glavni trg 24\, Novo mesto\, 8000\, Slovenia
CATEGORIES:Delavnica
ATTACH;FMTTYPE=image/jpeg:https://www.milenamatko.com/wp-content/uploads/2018/11/Lepota16-045.jpg
ORGANIZER;CN="Milena Matko":MAILTO: milena.matko@siol.net
END:VEVENT
END:VCALENDAR