BEGIN:VCALENDAR
VERSION:2.0
PRODID:-//POT SRCA - ECPv6.15.20//NONSGML v1.0//EN
CALSCALE:GREGORIAN
METHOD:PUBLISH
X-WR-CALNAME:POT SRCA
X-ORIGINAL-URL:https://www.milenamatko.com
X-WR-CALDESC:Dogodki za POT SRCA
REFRESH-INTERVAL;VALUE=DURATION:PT1H
X-Robots-Tag:noindex
X-PUBLISHED-TTL:PT1H
BEGIN:VTIMEZONE
TZID:Europe/Ljubljana
BEGIN:DAYLIGHT
TZOFFSETFROM:+0100
TZOFFSETTO:+0200
TZNAME:CEST
DTSTART:20190331T010000
END:DAYLIGHT
BEGIN:STANDARD
TZOFFSETFROM:+0200
TZOFFSETTO:+0100
TZNAME:CET
DTSTART:20191027T010000
END:STANDARD
BEGIN:DAYLIGHT
TZOFFSETFROM:+0100
TZOFFSETTO:+0200
TZNAME:CEST
DTSTART:20200329T010000
END:DAYLIGHT
BEGIN:STANDARD
TZOFFSETFROM:+0200
TZOFFSETTO:+0100
TZNAME:CET
DTSTART:20201025T010000
END:STANDARD
BEGIN:DAYLIGHT
TZOFFSETFROM:+0100
TZOFFSETTO:+0200
TZNAME:CEST
DTSTART:20210328T010000
END:DAYLIGHT
BEGIN:STANDARD
TZOFFSETFROM:+0200
TZOFFSETTO:+0100
TZNAME:CET
DTSTART:20211031T010000
END:STANDARD
END:VTIMEZONE
BEGIN:VEVENT
DTSTART;TZID=Europe/Ljubljana:20200118T100000
DTEND;TZID=Europe/Ljubljana:20200118T200000
DTSTAMP:20260424T142628
CREATED:20191022T210512Z
LAST-MODIFIED:20191022T213144Z
UID:5345-1579341600-1579377600@www.milenamatko.com
SUMMARY:Delavnica »ŽENSKA SEM«: Babica
DESCRIPTION:»Ženska. Daleč najbolj čudovita stvaritev Boga. \nDehteča lepota Srca. Omamna vrtnica\, sladki nektar užitka\, strasti. Veličastna oda radosti\, neskončne moči. Kristalno čist izvir žive vode\, ljubezni\, luči. Mladenka\, ki cveti\, mati\, ki rodi\, starka\, ki v modrosti žari. Žlahtnost\, sočnost vsega najboljšega. \nŽenska. Najlepši biser Stvarnika\, čudež stvarstva celega.« \n  \nSklop dvanajstih delavnic »Ženska sem«  je namenjen ženskam\, arhetipskemu pogledu nase. Prehajamo skozi štiri obdobja oz. področja v življenju\, ki nam pomagajo razumeti svoje globine\, sprejeti svetost ženskosti ter objeti žensko telo skupaj s ciklusi\, po katerih mesečno plujemo. \nŽenske v sebi nosimo neizmerno moč. Nosilke smo novega življenja\, v rokah držimo plamenico srčnosti. V nas živijo spomini na svečenice v belem\, na mogočne kraljice\, na veličastne boginje\, na ljubeče matere\, na strastne žene\, na divje bojevnice\, na modrosti polne starke. Zato si podajmo roke in skupaj odplešimo veličasten ples ženskosti\, da omamni cvet ljubezni v nas zopet zadehti. Svet nas potrebuje – potrebuje našo nežnost in milino\, strast in odločnost\, ljubezen in toplino\, modrost in veličino. \n  \nDelavnice potekajo ob sobotah ob 10.00 uri (trajajo predvidoma do 20.00 ure z vmesnim odmorom za kosilo). Termini v letu 2020: 18.01.20\, 15.02.20\, 14.03.20 in 11.04.20.\nCena posamezne delavnice je 125 EUR. \n  \nKratka vsebina: \n\nSklop »CVETOČA MLADENKA«\n\nPosvetimo se začetnemu obdobju v življenju ženske. Sprejmemo lepoto ženskosti\, veličastno odstremo tančice sveta ženskih ciklusov. Objamemo svetost maternice\, vstopimo v čarobnost podarjanja novega življenja ter moč čutne spolnosti. Spregovorimo o izkušnjah\, ki so nas oblikovale kot hčerke\, dekleta in sestre ter odločilno vplivajo na potek celotnega življenja\, zlasti na odnos do sebe.\nHči: Živim. Obstajam.\nObdobje hčerke se prične s spočetjem in traja vse do prihoda menstruacije. Zaobjema celotno otroštvo\, ki nas najbolj odločilno zaznamuje. Je čas učenja\, kako uveljaviti svojo voljo\, poslušati svoje instinkte\, razviti občutek lastne vrednosti in smisla\, da obstajamo. Zavemo se\, da imamo svoje mesto v materialnem svetu\, da razpolagamo s svojo dušo\, pametjo\, čustvi in telesom. Da imamo pravico\, da živimo\, da nas v okolici vidijo\, slišijo\, sprejmejo.\nDekle: Ženska sem.\nDekle odpre vrata puberteti. Predstavlja prebujajočo se spolnost\, življenjsko energijo\, strast\, moč\, začetek uveljavitve svoje osebnosti (svojega »jaza) znotraj družine in v svetu. Dekle nam zastavi vprašanje\, ali je varno in smiselno biti ženska\, ali je varno biti čutna\, strastna\, zapeljiva … Hoče ločitev od okolja\, še zlasti od svoje družine in pričetek stopanja po samostojni poti. Svojo energijo in vse\, kar ji pripada\, želi zase.\nKrvna sestra: Vidna sem. Pomembna sem.\nKrvna sestra predstavlja mesto ženske v svetu\, pokaže nam\, kako s svojo dušo\, z globinami svojega obstoja doseči družbeni ugled in položaj\, biti vidna in pomembna v okolici. Prinese pomen sestrstva\, resničnega ženskega zavezništva. \n\nSklop »ČUTNA ŽENA IN LJUBEČA MATI«\n\nLjubeče se zazremo po prostranih poljanah partnerstva in materinstva. Predamo se moči srčne ženske povezanosti\, odstremo lepoto svečane ustvarjalnosti – pogledamo\, na katerih področjih smo matere\, kaj vse ustvarjamo\, iz dneva v dan rojevamo. Spregovorimo o izkušnjah\, ki so nas oblikovale kot ljubimke in matere ter varuhinje spomina.\nLjubimka: Ljubim.\nObdobje ljubimke se prične z vstopom v ljubezensko zvezo in pomeni našo sposobnost ljubiti\, se popolnoma predati\, zliti s sabo in vsem okrog nas. Dotika se spolnosti\, zmožnosti popolne intimnosti\, divje in neukročene strasti. V nas prebudi vprašanje\, koliko zaupamo sebi in drugim\, koliko se lahko predamo življenju in ga ljubimo\, koliko vere v dobroto imamo.\nMati: Ustvarjam. Rojevam.\nMati je življenje samo\, njegova dajalka\, negovalka in varuhinja. Predstavlja biološko mamo in katerikoli projekt\, v katerega vložimo svojo ljubezen\, strast in ustvarjalnost. Predstavlja energijo plodnosti\, vedno nove vire ustvarjalnosti\, ki se porajajo sami od sebe\, nas ženejo v življenju naprej. Mati nam v prvi vrsti pokaže odnos do sebe – ali znamo biti materinske in razumevajoče\, tople in ljubeče\, sočutne in prijazne do sebe.\nMatriarhinja: Ukoreninjena sem. Spominjam se.\nMatriarhinja prinese notranji mir\, občutek poštenosti in pravičnosti\, notranjo trdnost in stabilnost. Poveže nas z rodovnimi koreninami\, predniki ter nasledniki\, nas prizemlji\, umesti v prostor. Obudi starodavne spomine in na površje prinese resnico tega in preteklih življenj\, pa tudi naroda in človeštva kot celote. Omogoči nam razgradnjo dvomov vase\, krhkosti\, negotovosti\, potrebe po zunanji potrditvi\, preobčutljivosti na okolje in druge. \n\nSklop »DIVJA ŽENSKA IN POSLOVNA BOGINJA«\n\nŽenske ne glede na partnerstvo in materinstvo v sebi vedno ohranimo svojo samostojno bit\, pridih divje neukročenosti\, odločnega in jasnega nastopanja v družini in okolju. Podamo se v svet svojevrstne ženske poslovnosti\, kjer uporabljamo svojo intuitivno moč\, čut za lepoto in povezovalno energijo sodelovanja. Na srečanjih spregovorimo o izkušnjah mentorstva (babištva)\, s svetlobo posijemo v najgloblja brezna teme in prebudimo bojevnico (amazonko)\, ki iz življenja odmetava vloge\, določene s strani okolice\, da znova rodi samo sebe\, si utre svojo lastno pot.\nAmazonka: Divja sem. Osvobajam.\nAmazonka se prične z obdobjem zaključka materinstva in zahteva notranjo osvoboditev\, resnico in pravico\, soočenje z zlorabami\, z razvrednotenjem in utišanjem same sebe\, poteptanim ponosom\, izgubljenim dostojanstvom. Je bojevnica\, ki odmetava s sebe omejujoče zahteve okolice\, vloge\, ki so ji bile določen od zunaj. Okoli sebe ustvarja krog zaščite\, da lahko znotraj tega varnega\, intimnega prostora znova rodi samo sebe. Pred tem pa pregleda svoje življenje vse do spočetja\, da prepozna omejitve\, ki ji niso dopustile polnega razcveta\, spregleda vse izdaje sebe\, potlačitve glasu za mir v odnosih.\nSvečenica: Svetloba sem. Sijem.\nSvečenica v našem življenju nastopi takrat\, ko ugotovimo\, da smo se znašle na robu. Da ne vidimo več smisla svojega obstoja\, morda zbolimo\, razpade nam zakon\, služba postane rutina\, izgubimo vero vase in v življenje. Ko se pričnejo na površje dvigovati težki spomini\, ko solze tečejo po licih in pademo v brezno lastne teme. Takrat se podamo na pot raziskovanja svojih globin in obnavljanja energije življenja. Svečenica ljudem prinaša božje nauke\, starodavno modrost\, izvaja obrede\, uči moralo in etiko. Je najvišja duhovna avtoriteta\, neodvisna\, suverena ženska\, ki je sama sebi dovolj\, ki je ni mogoče omejevati ali se je lastiti.\nBabica: Učim. Vodim.\nBabica predstavlja mentorico\, ki svoje znanje\, predvsem pa izkušnje in modrost prenaša na mlajše ženske. V našem življenju se pojavi\, ko je osebnost dodobra izoblikovana\, prizemljena\, je materialna ustvarjalnost že doživela svoj vrhunec. V tem času postaja notranji svet ženske izrazitejši in začne določati dogajanje v zunanjem svetu. To ne pomeni\, da se umaknemo iz družbe\, ampak da smo v njej intenzivno prisotne s svojo močjo\, odločnostjo\, globokimi duhovnimi uvidi\, z izkušnjami. \n\nSklop »MODRA STARKA«\n\nV zadnjem obdobju življenja\, ko se za žensko konča rodno obdobje\, v ospredje stopi ljubeča svetost babice ter večna modrost starke. Ženska se posveti svojim notranjim globinam\, na površje prinaša vizije\, pomembne zanjo in celoten rod\, postane vodnica svojim potomkam\, varuhinja doma\, odločna akterka v družbi\, opravlja obrede\, skrbi za rodovne korenine\, je v brezmejnem stiku z duhovnim svetom\, resnico in svojo mistično močjo.\nČarovnica: Močna sem.\nČarovnica je arhetip moči\, ki prinese rojstvo nove osebnosti\, temelječ na tem\, kar si želi naša duša. Čarovnica predstavlja trdnost\, sposobnost sodelovanja z duhovnim svetom in elementi vode\, ognja\, zemlje\, zraka – je spoštljiva in ponižna v odnosu do njih. In ta moč ji prinaša svobodo\, neobvladljivost s strani okolice. Čarovnica ima dovolj sposobnosti\, da jo lastna tema ne preplavi in obvlada\, pridobila je moč nad njo. Sprejema polno odgovornost za svoja dejanja\, sposobna je najti rešitev. Zna sprostiti energijo\, ki je bila doslej ujeta v bolečini\, trpljenju\, egu in jo uporabiti za stvarjenje\, za ponovno rojstvo same sebe.\nModra starka: Modra sem. Govorim resnico.\nModra starka je polna modrosti\, je varuhinja življenja in resnice. Je vodnica\, ki poskuša na blag in nežen način ljudi pripeljati do tega\, da bi videli božanskost v vseh vidikih življenja\, da bi bili ukoreninjeni\, notranje stabilni in mirni\, da bi znali častiti in spoštovati vse lepo in sveto. Modra starka pozna in sprejema življenje v celoti\, lepo in grdo\, dobro in zlo\, odstira skrite kotičke človeškosti\, prinaša širšo sliko razumevanja globin svojega obstajanja.\nTemna mati: Sem konec in začetek. Sem smrt in novo rojstvo.\nTemna mati je arhetip\, ki prinese notranji mir\, popolno in dokončno predajo svoji duši\, zlitost z duhovnim svetom. Predstavlja konec\, ki nas z zavedanjem smrti še toliko bolj odločno potisne v življenje\, v to\, da vsak trenutek preživimo čim bolj strastno in modro\, da zaplujemo v divjo reko življenja in neobrzdano jezdimo njene valove. V nas prebudi najglobljo vero\, največ\, kar sploh lahko smo\, žlahtnost\, najboljše od najboljšega. Vse staro odpade in se zaključi\, umre\, rodi se nova osebnost\, vrnemo se domov\, v objem vzporednih svetov. Počivamo in dihamo. \n  \nPovabite svoje srce na deveto delavnico »Ženska sem«: Babica\, na kateri si bomo dovolile dokončno izoblikovati svojo osebnost\, se naučile zaupati v notranje vodstvo\, v sebi prebudile mentorico\, ki svoje znanje\, predvsem pa izkušnje in modrost prenaša na druge.\nZa pripravo na delavnico v globinah svoje duše začutimo in zapišimo odgovore na vprašanja: »Koliko se zanašamo na svoje notranje vodstvo\, poslušamo intuicijo\, slutnje\, vizije? V kolikšni meri smo pripravljene svoje izkušnje in modrost deliti z drugimi\, jih spodbujati na njihovi poti rasti\, jih voditi?«\nPripravimo svojevrsten obred s katerim bomo v sebi prebudile in počastile energijo babice. \n  \nKJE: Ljubljana\, Kotnikova ulica 28\, Tempelj POT SRCA (soba 413) \nKDAJ: sobota\, 18.01.20\, ob 10.00 uri \nCENA: 125 EUR \nPRIJAVE: milena.matko@siol.net \n  \nDobrodošle tudi vaše znanke\, prijateljice\, sorodnice oz. vse ženske\, za katere čutite\, da jim bodo delavnice prinesle zadovoljstvo ter ljubeč blagoslov. \n  \nPrisrčno pozdravljene in obilo čarobnosti do snidenja\, \nMilena Matko
URL:https://www.milenamatko.com/dogodki/delavnica-zenska-sem-divja-zenska-poslovna-boginja-babica/
LOCATION:Tempelj POT SRCA\, Glavni trg 24\, Novo mesto\, 8000\, Slovenia
CATEGORIES:Delavnica
ATTACH;FMTTYPE=image/jpeg:https://www.milenamatko.com/wp-content/uploads/2015/08/vrtnica.jpg
ORGANIZER;CN="Milena Matko":MAILTO: milena.matko@siol.net
END:VEVENT
BEGIN:VEVENT
DTSTART;TZID=Europe/Ljubljana:20200126T100000
DTEND;TZID=Europe/Ljubljana:20200126T200000
DTSTAMP:20260424T142628
CREATED:20191022T203810Z
LAST-MODIFIED:20191023T101748Z
UID:5337-1580032800-1580068800@www.milenamatko.com
SUMMARY:Delavnica »Pot srca«: LEPOTA LJUBEZNI
DESCRIPTION:»Poroka – tista notranja. Ko ne rabiš ne pogodb\, ne prstana. Le zliješ se z vsem\, kar si. Žariš v sreči\, si z Ljubeznijo. Sanjaš\, upaš\, hrepeniš\, si dovoliš biti Ti.« \n  \nLjubezen – veličina\, ki nam daje osnovo\, da živimo\, da obstajamo. A nemalokrat pozabimo\, da moramo v prvi vrsti imeti radi sami sebe\, z vso gorečo strastjo objeti svojo dušo\, pamet in telo.\nZato povabimo svoje srce na peto delavnico »Pot srca«: LEPOTA LJUBEZNI\, na kateri bomo izvedli svečani obred poroke s samim sabo\, veličastno vstopili v svoje srce\, začutili blaženost ljubezni. \nKJE: Ljubljana\, Kotnikova ulica 28\, Tempelj POT SRCA (soba 413)\nKDAJ: nedelja\, 26.01.20\, ob 10.00 uri\nCENA: 125 EUR\nPRIJAVE: milena.matko@siol.net\nS SEBOJ PRINESIMO: poročno zaobljubo in darilo\, ki ga bomo podarili samemu sebi \nNajpogosteje izvajan sklop osmih delavnic »Pot Srca« je namenjen vsem\, ki bi se radi temeljito spoznali\, sprejeli\, razumeli\, dobili predstavo o sebi ter postavili trdne temelje svojega življenja. Na delavnicah dobimo globoko zavedanje\, kdo sploh smo in kakšen je namen prihoda na Zemljo\, kakšne vzorce smo prejeli po prednikih\, katere spomine prinašamo iz davnin\, kaj se nam je dogajalo v otroštvu in mladosti\, katere vrednote nam tlakujejo pot\, v čem smo zares dobri\, kaj imamo radi …\nVzpenjamo se po stopnicah našega življenja – pričnemo v trenutku pred spočetjem\, ko pred mojstri in vodniki podpišemo pogodbo z našimi starši ter izberemo poslanstvo. Nadaljujemo s fizičnim rojstvom in se s pomočjo sporočil posameznih čaker ter obredov\, ki ustrezajo slednjim\, pomikamo skozi življenje. Zaključimo s smrtjo\, ko prestopimo reko večnosti in se zlijemo z Ljubeznijo. \nDelavnice potekajo ob nedeljah ob 10.00 uri (predvidoma trajajo do 20.00 ure z vmesnim odmorom za kosilo). Termini v letu 2020: 26.01.20\, 23.02.20\, 22.03.20\, 19.04.20.\nCena posamezne delavnice je 125 EUR. \nKratka vsebina: \n1. Uvodno srečanje »POSVEČENI DOGOVOR«\nPričnemo s predstavitvijo udeležencev in definiranjem namena obiskovanja delavnic. Nadaljujemo z vpogledom v pogodbo oz. posvečeni dogovor\, ki smo ga sklenili pred prihodom na Zemljo (soočimo se s svojim poslanstvom\, izbiro staršev\, spola\, imena\, časa in kraja rojstva\, pomembnimi osebami ter življenjskimi dogodki …). Namen prvega srečanja je\, da sprejmemo odgovornost za svoje življenje. Da se zavemo\, da smo se sami\, povsem zavestno podali na pot\, po kateri trenutno hodimo. \n2. Druženje »ČUDEŽ ŽIVLJENJA«\nPoglobimo se v svetost življenja\, v obdobje med spočetjem in sedmim letom starosti. Spregovorimo o zakonitostih\, ki vladajo v družini\, se posvetimo odnosu s starši oz. primarno družino\, raziščemo družinsko drevo (še zlasti smo pozorni na boleče izkušnje v rodu kot npr. ločitev\, splav\, nasilje\, odsotnost enega ali obeh staršev\, samomor …) ter objamemo svojo identiteto. \n3. Druženje »STRAST USTVARJANJA«\nRaziščemo obdobje med sedmim in štirinajstim letom starosti\, ko v ospredje stopi moč očeta in pričnemo vzpostavljati vezi z okolico. Posvetimo se našemu odnosu do ustvarjalnosti\, denarja/premoženja ter spolnosti. Spregovorimo tudi o pomenu zavestnega spočetja\, telegoniji\, prenašanju energij med partnerjema … \n4. Druženje »KRALJEVSKOST MOČI«\nPosvetimo se obdobju med zaključkom osnovnega šolanja ter 21-tim letom starosti\, ko prestopimo prag zrelosti\, izoblikujemo svojo identiteto\, se naučimo dejavno poskrbeti zase … Vstopimo v lastno moč\, začutimo svoje vrednote\, si izpovemo spoštovanjem ter zapišemo kodeks časti. Poiščemo način\, kako postati odgovoren gospodar svojega življenja. \n5. Druženje »LEPOTA LJUBEZNI«\nPredamo se čutenju ljubezni\, njenim tisočerim odtenkom\, si jo dovolimo sprejemati in dajati\, jo širiti ter s tem spreminjati nas same in svet vsenaokrog. Izvedemo obred poroke s samim sabo ter si odpustimo vse\, kar nas bremeni oz. preprečuje\, da bi se imeli neskončno radi. \n6. Druženje »SVETOST IZRAŽANJA«\nResnica nas osvobaja\, prinaša odrešitev\, dela čudeže. Zato se na delavnici potopimo v moč resnice\, odpremo vrata izražanju ter dovolimo svetlobi\, da nas objame. Položimo temelje zaupanja vase in poštenosti. Zazremo se v svetle in temne trenutke svojega bivanja ter dojamemo\, da imamo svobodno voljo\, da sami odločamo\, kaj bomo počeli s svojim življenjem. \n7. Druženje »VELIČINA MODROSTI«\nNa delavnici odpiramo svoje jasnočutne zaznave\, se prepustimo vodstvu intuicije. Dovolimo si pogledati svoje največje zaklade (talente\, darove) ter poiščemo način\, kako jih strastno uporabiti v dobro nas samih ter celotnega človeštva. Razrešimo ovire na poti do svojega mojstrstva. \n8. Druženje »RAZKOŠJE BOŽJEGA«\nVeličastno se prepustimo svoji domišljiji in božji milosti\, v polnosti se odpremo podpori duhovnega sveta. Iz življenja odslovimo vse\, kar je »mrtvo in končano«\, zato izvedemo simboličen pogreb. Povežemo se z vsemogočnostjo Boga. V meditaciji se poglobimo v občutke fizične smrti in v trenutke prehoda v večnost. \nLjudje smo v prvi vrsti energijska bitja in vsaka misel\, vsako dejanje iz tega in preteklih življenj\, iz zemeljskih in drugih dimenzij\, se odtisne\, zapiše v energijsko polje človeka. Slednjega nosimo povsod s sabo\, v slabem in dobrem\, ponoči in podnevi\, doma in na potepanjih po tujini. Na delavnicah s pomočjo igranja vlog dostopamo do zapisov duše vsakega posameznika\, drug drugemu odstiramo življenjske zgodbe\, meditiramo\, prisluhnemo kanaliziranim sporočilom naših vodnikov\, angelov\, starodavnih prednikov\, se predajamo zdravilni moči glasbe\, beremo zgodbe iz knjige »Po poti mojega Srca«\, odstiramo tančice vzporednih svetov … Delujemo istočasno na mentalnem\, čustvenem\, fizičnem in dušnem nivoju. \nDobrodošli tudi vaši znanci\, prijatelji oz. osebe\, za katere čutite\, da jim bodo delavnice prinesle zadovoljstvo ter ljubeč blagoslov. \nS spoštovanjem in ljubeznijo\,\nMilena Matko
URL:https://www.milenamatko.com/dogodki/delavnica-pot-srca-lepota-ljubezni/
LOCATION:Tempelj POT SRCA\, Glavni trg 24\, Novo mesto\, 8000\, Slovenia
CATEGORIES:Delavnica
ATTACH;FMTTYPE=image/jpeg:https://www.milenamatko.com/wp-content/uploads/2018/11/Lepota16-045.jpg
ORGANIZER;CN="Milena Matko":MAILTO: milena.matko@siol.net
END:VEVENT
END:VCALENDAR