BEGIN:VCALENDAR
VERSION:2.0
PRODID:-//POT SRCA - ECPv6.15.20//NONSGML v1.0//EN
CALSCALE:GREGORIAN
METHOD:PUBLISH
X-WR-CALNAME:POT SRCA
X-ORIGINAL-URL:https://www.milenamatko.com
X-WR-CALDESC:Dogodki za POT SRCA
REFRESH-INTERVAL;VALUE=DURATION:PT1H
X-Robots-Tag:noindex
X-PUBLISHED-TTL:PT1H
BEGIN:VTIMEZONE
TZID:Europe/Ljubljana
BEGIN:DAYLIGHT
TZOFFSETFROM:+0100
TZOFFSETTO:+0200
TZNAME:CEST
DTSTART:20190331T010000
END:DAYLIGHT
BEGIN:STANDARD
TZOFFSETFROM:+0200
TZOFFSETTO:+0100
TZNAME:CET
DTSTART:20191027T010000
END:STANDARD
BEGIN:DAYLIGHT
TZOFFSETFROM:+0100
TZOFFSETTO:+0200
TZNAME:CEST
DTSTART:20200329T010000
END:DAYLIGHT
BEGIN:STANDARD
TZOFFSETFROM:+0200
TZOFFSETTO:+0100
TZNAME:CET
DTSTART:20201025T010000
END:STANDARD
BEGIN:DAYLIGHT
TZOFFSETFROM:+0100
TZOFFSETTO:+0200
TZNAME:CEST
DTSTART:20210328T010000
END:DAYLIGHT
BEGIN:STANDARD
TZOFFSETFROM:+0200
TZOFFSETTO:+0100
TZNAME:CET
DTSTART:20211031T010000
END:STANDARD
END:VTIMEZONE
BEGIN:VEVENT
DTSTART;TZID=Europe/Ljubljana:20200919T100000
DTEND;TZID=Europe/Ljubljana:20200919T190000
DTSTAMP:20260424T020243
CREATED:20190527T101129Z
LAST-MODIFIED:20200629T121948Z
UID:5183-1600509600-1600542000@www.milenamatko.com
SUMMARY:Delavnica »JAZ SEM«
DESCRIPTION:»Jaz sem Jaz in ti si Ti\,\noba dragocena v svoji veličastnosti.« \n  \nKdo v resnici sem\, kaj prizemljujem skozi sebe? Kaj mi ostane\, če odložim svojo obleko\, denarnico\, strokovni naziv\, telo? Od kod prihajam in kam grem? Kaj prinašam v življenja ljudi\, čemu sploh obstajam? Kakšne dragocenosti se skrivajo v meni in kako jih uporabiti v vsakodnevnem življenju? … \nDa v globinah svojega bivanja najdemo odgovore\, ljubeče vabljeni na delavnico »JAZ SEM«\, na kateri se bomo v polnosti posvetili zavesti »jaz sem« oz. svoji resnični identiteti. Svoji duši bomo dovolili\, da nam pove\, kdo smo v ozadju »ženske/moškega\, hčerke/sina\, partnerke/partnerja\, mame/očeta\, prijateljice/prijatelja\, sodelavke/sodelavca\, diplomantke/diplomanta te in te fakultete\, prebivalke/prebivalca Slovenije« itd. Sprejeli bomo svojo lastno vrednost\, posebnost in drugačnost\, si izkazali ljubezen in spoštovanje\, predvsem pa iz sebe spustili vse energije\, ki nam onemogočajo živeti to\, kar dejansko smo. \n  \nKJE: Ljubljana\, Kotnikova ulica 28\, Tempelj POT SRCA (soba 413) \nKDAJ: sobota\, 19.09.20\, ob 10.00 uri \nCENA: 125 EUR \nPRIJAVA: milena.matko@siol.net \nPRIPRAVE NA DELAVNICO: zapišimo vsa prepričanja\, ki jih imamo o samih sebi\, o lastni vrednosti:\n kakšne informacije o sebi smo dobili v tem življenju od spočetja dalje\n kakšen pogled na nas imajo naši starši in drugi predniki\, bratje in sestre\, sorodniki\, partner in njegova družina\n kako na zavedanje samih sebe vpliva okolje v katerem živimo (vključno z razmerami v državi\, spomini slovenskega naroda\, pogledom cerkvenih institucij in duhovnosti na nas …)\n kaj smo na temo zavedanja samih sebe doživljali v preteklih življenjih. \n  \nDobrodošli tudi vaši znanci\, prijatelji oz. osebe\, za katere čutite\, da jim bo delavnica prinesla ljubeč blagoslov. \n  \nZ ljubeznijo in spoštovanjem\, \nMilena Matko
URL:https://www.milenamatko.com/dogodki/delavnica-sprejemam-bogastvo/
LOCATION:Tempelj POT SRCA\, Glavni trg 24\, Novo mesto\, 8000\, Slovenia
CATEGORIES:Delavnica
ATTACH;FMTTYPE=image/jpeg:https://www.milenamatko.com/wp-content/uploads/2015/08/bg06.jpg
ORGANIZER;CN="Milena Matko":MAILTO: milena.matko@siol.net
END:VEVENT
END:VCALENDAR