BEGIN:VCALENDAR
VERSION:2.0
PRODID:-//POT SRCA - ECPv6.15.20//NONSGML v1.0//EN
CALSCALE:GREGORIAN
METHOD:PUBLISH
X-ORIGINAL-URL:https://www.milenamatko.com
X-WR-CALDESC:Dogodki za POT SRCA
REFRESH-INTERVAL;VALUE=DURATION:PT1H
X-Robots-Tag:noindex
X-PUBLISHED-TTL:PT1H
BEGIN:VTIMEZONE
TZID:Europe/Ljubljana
BEGIN:DAYLIGHT
TZOFFSETFROM:+0100
TZOFFSETTO:+0200
TZNAME:CEST
DTSTART:20190331T010000
END:DAYLIGHT
BEGIN:STANDARD
TZOFFSETFROM:+0200
TZOFFSETTO:+0100
TZNAME:CET
DTSTART:20191027T010000
END:STANDARD
BEGIN:DAYLIGHT
TZOFFSETFROM:+0100
TZOFFSETTO:+0200
TZNAME:CEST
DTSTART:20200329T010000
END:DAYLIGHT
BEGIN:STANDARD
TZOFFSETFROM:+0200
TZOFFSETTO:+0100
TZNAME:CET
DTSTART:20201025T010000
END:STANDARD
BEGIN:DAYLIGHT
TZOFFSETFROM:+0100
TZOFFSETTO:+0200
TZNAME:CEST
DTSTART:20210328T010000
END:DAYLIGHT
BEGIN:STANDARD
TZOFFSETFROM:+0200
TZOFFSETTO:+0100
TZNAME:CET
DTSTART:20211031T010000
END:STANDARD
END:VTIMEZONE
BEGIN:VEVENT
DTSTART;TZID=Europe/Ljubljana:20201011T100000
DTEND;TZID=Europe/Ljubljana:20201011T190000
DTSTAMP:20260424T002524
CREATED:20170421T204729Z
LAST-MODIFIED:20200629T123537Z
UID:3941-1602410400-1602442800@www.milenamatko.com
SUMMARY:Delavnica »SPOROČILA DUŠE«
DESCRIPTION:»Popeljem te na Pot Srca\, da duša v Ljubezni zapoje\, zaigra.« \n  \nKolo leta se je močno prevesilo v zadnjo četrtino in vse bolj nas kliče v svoje globine. Zato si dovolimo iz naših življenj spustiti vse\, kar nas duši\, da v obdobje načrtovanja novih poti stopimo razbremenjeni teže preteklosti in obsijani z ljubeznijo. \nTako srčno vabljeni na delavnico »Sporočila duše«\, na kateri se bomo v uvodnem delu ukvarjali s prizemljenostjo oz. povezavo z mamo zemljo\, v praktičnem delu pa s pomočjo igre vlog  poiskali odgovore na vaša individualna vprašanja kot npr.: \n\nKdo sem in kaj je smisel mojega življenja?\nZakaj imam težave v odnosih s svojim partnerjem\, otroki\, prijatelji\, sorodniki?\nKakšno sporočilo imajo zame različne bolezni\, poškodbe?\nZakaj me pesti depresija in brezvoljnost?\nKako to\, da imam težave z alkoholom in drugimi vrstami odvisnosti?\nZakaj neuspehi v poslu ali nerazumevanje s sodelavci?\nKako naj razrešim finančne težave?\n…\n\nDovolimo si prejeti sporočila naših duš. \n  \nKJE: Ljubljana\, Kotnikova ulica 28\, Tempelj POT SRCA (soba 413) \nKDAJ: nedelja\, 11.10.20\, ob 10.00 uri \nCENA: 125 EUR \nPRIJAVA: milena.matko@siol.net \nPRIPRAVE: s seboj prinesimo vprašanja na katere želimo odgovore \n\n  \nDobrodošli tudi vaši znanci\, prijatelji oz. osebe\, za katere čutite\, da jim bodo delavnice prinesle zadovoljstvo ter ljubeč blagoslov. \n  \nZ ljubeznijo in spoštovanjem\, \nMilena Matko
URL:https://www.milenamatko.com/dogodki/delavnica-sporocila-duse/
LOCATION:Tempelj POT SRCA\, Glavni trg 24\, Novo mesto\, 8000\, Slovenia
CATEGORIES:Delavnica
ATTACH;FMTTYPE=image/jpeg:https://www.milenamatko.com/wp-content/uploads/2018/11/Lepota15-013.jpg
ORGANIZER;CN="Milena Matko":MAILTO: milena.matko@siol.net
END:VEVENT
END:VCALENDAR