BEGIN:VCALENDAR
VERSION:2.0
PRODID:-//POT SRCA - ECPv6.15.20//NONSGML v1.0//EN
CALSCALE:GREGORIAN
METHOD:PUBLISH
X-ORIGINAL-URL:https://www.milenamatko.com
X-WR-CALDESC:Dogodki za POT SRCA
REFRESH-INTERVAL;VALUE=DURATION:PT1H
X-Robots-Tag:noindex
X-PUBLISHED-TTL:PT1H
BEGIN:VTIMEZONE
TZID:Europe/Ljubljana
BEGIN:DAYLIGHT
TZOFFSETFROM:+0100
TZOFFSETTO:+0200
TZNAME:CEST
DTSTART:20200329T010000
END:DAYLIGHT
BEGIN:STANDARD
TZOFFSETFROM:+0200
TZOFFSETTO:+0100
TZNAME:CET
DTSTART:20201025T010000
END:STANDARD
BEGIN:DAYLIGHT
TZOFFSETFROM:+0100
TZOFFSETTO:+0200
TZNAME:CEST
DTSTART:20210328T010000
END:DAYLIGHT
BEGIN:STANDARD
TZOFFSETFROM:+0200
TZOFFSETTO:+0100
TZNAME:CET
DTSTART:20211031T010000
END:STANDARD
BEGIN:DAYLIGHT
TZOFFSETFROM:+0100
TZOFFSETTO:+0200
TZNAME:CEST
DTSTART:20220327T010000
END:DAYLIGHT
BEGIN:STANDARD
TZOFFSETFROM:+0200
TZOFFSETTO:+0100
TZNAME:CET
DTSTART:20221030T010000
END:STANDARD
END:VTIMEZONE
BEGIN:VEVENT
DTSTART;TZID=Europe/Ljubljana:20211009T100000
DTEND;TZID=Europe/Ljubljana:20211009T190000
DTSTAMP:20260423T062852
CREATED:20181116T090629Z
LAST-MODIFIED:20210811T081122Z
UID:4580-1633773600-1633806000@www.milenamatko.com
SUMMARY:Delavnica »ČE ŠKRIPA MED HČERJO IN MATERJO«
DESCRIPTION:»Pogrešam Mamo.\nTisto pravo\, z veliko začetnico.\nTisto\, ki je nikdar ni bilo.« \n  \nTokratna delavnica nosi naslov po istoimenski knjigi novinarke Victorie Secunda. Le-ta je na osnovi številnih pričevanjih žensk izjemno tankočutno razložila enega izmed najglobljih\, a običajno tudi najtežjih odnosov – odnos med materjo in hčerjo. Današnja družba nas namreč naravnost sili v to\, da svojo mamo vidimo kot »zlato«\, da poveličujemo materinstvo\, četudi smo bile s strani svoje mame in drugih prednic ponižane\, pretepene\, nesprejete in neljubljene\, doživljale izpade besa\, sovražnosti\, laži\, spolne in druge zlorabe\, se je mama umikala od soočenja s težavami ali bila nesposobna poskrbeti za nas …\nTako srčno vabljene na delavnico »Če škripa med hčerjo in materjo«\, na kateri se bomo poglobile v odnos s svojo mamo in drugimi prednicami\, pogledale\, na katerih področjih svoje mame še ne vidimo realno oz. kaj imamo z njo še nerazrešenega\, kaj nam onemogoča\, da bi zasijale v svoji ženskosti. Začutile bomo tudi\, kako pa nas mama podpira na naši poti rasti\, kako nam pomaga izpolnjevati naše poslanstvo. \n  \nKJE: Ljubljana\, Kotnikova ulica 28\, Tempelj POT SRCA (soba 029)\nKDAJ: sobota\, 09.10.21\, ob 10.00 uri\nCENA: 150 EUR\nPRIJAVE: milena.matko@siol.net\nPRIPRAVA NA DELAVNICO: preberimo knjigo »Če škripa med hčerjo in materjo« avtorice Victorie Secunda in odgovorimo na spodnja vprašanja:\n1. Kako doživljam mit o materinstvu (da je materinstvo v družbi nekaj svetega in posledično vsaka mama »dobra«\, zato je v odnosu mama – otrok lahko »slab« oz. problematičen zgolj otrok)?\n2. Kateri občutki prevladujejo v odnosu do svoje mame (ljubezen\, spoštovanje\, ponos … ali pa sovraštvo\, strah\, sram\, krivda\, jeza …)?\n3. Katerega izmed težavnih vidikov materinstva sem prepoznala pri svoji mami (cunja\, kritizerka\, dušilka\, maščevalka\, zapuščevalka)?\n4. Kako sem reagirala na slednje (angelka\, dosežkarica\, številka\, zgaga\, ubežnica)?\n5. Kako se težave v odnosu z mamo odražajo v mojem partnerstvu\, materinstvu\, prijateljstvih\, poslovnosti …?\n6. Kako se je odnos do mame spremenil v odraslosti (mi jo uspeva videti realno\, sprejeti vse njene dobre in manj dobre lastnosti; je odnos prerastel v svojevrstno prijateljstvo\, sva dosegli vsaj premirje ali pa sem se povsem umaknila iz odnosa)? \nDobrodošle tudi vaše znanke\, prijateljice\, sorodnice oz. vse ženske\, za katere čutite\, da jim bodo delavnice prinesle zadovoljstvo ter ljubeč blagoslov. \nS spoštovanjem in ljubeznijo\,\nMilena Matko
URL:https://www.milenamatko.com/dogodki/delavnica-pot-moci-soncni-pletez-2/
LOCATION:Tempelj POT SRCA\, Glavni trg 24\, Novo mesto\, 8000\, Slovenia
CATEGORIES:Delavnica
ATTACH;FMTTYPE=image/jpeg:https://www.milenamatko.com/wp-content/uploads/2018/11/Lepota40-013.jpg
ORGANIZER;CN="Milena Matko":MAILTO: milena.matko@siol.net
END:VEVENT
BEGIN:VEVENT
DTSTART;TZID=Europe/Ljubljana:20211023T100000
DTEND;TZID=Europe/Ljubljana:20211023T190000
DTSTAMP:20260423T062852
CREATED:20170130T211555Z
LAST-MODIFIED:20210811T081039Z
UID:3825-1634983200-1635015600@www.milenamatko.com
SUMMARY:Delavnica »RAZREŠEVANJE SPOLNIH IN DRUGIH ZLORAB«
DESCRIPTION:»Jočem\, jočem kot že dolgo ne. Dragocenim solzam pustim prosto pot\, naj teko\, lijejo\, dokončno sčistijo dušo in telo ranjeno.« \n  \nSpolne in druge zlorabe. Dogajajo se – moškim\, ženskam in otrokom. Pogosteje\, kot si mislimo ali upamo priznati. Za štirimi stenami doma\, na ulicah\, v pisarnah\, šolah\, cerkvenih prostorih … – povsod\, kjer živimo\, delujemo\, se gibljemo. Prekoračene intimne meje\, uničena svetost telesa s posilstvi\, incesti\, nezaželenimi dotiki\, poljubi\, udarci\, brcami … vse skupaj začinjeno s ponižujočimi besedami\, mislimi\, ustrahovanji\, izsiljevanji. \nPosledice so dolgotrajne\, zarežejo globoko v samo srž obstoja. Praktično v trenutku je izgubljena ljubezen do sebe\, poteptana vera v Boga\, v dobroto. Razvrednoten je smisel obstoja\, uničena ustvarjalna moč\, sesuta lastna vrednost. Zato se bomo na delavnici »razreševanje spolnih in drugih zlorab« posvetili čutenju posledic in odpravi le-teh. Govorili bomo o dogajanju na fizičnem\, čustvenem\, mentalnem in duhovnem področju ter si na praktičnem delu s pomočjo igre vlog povrnili odvzeto moč\, spoštovanje in ljubezen do sebe. \n  \nKJE: Ljubljana\, Kotnikova ulica 28\, Tempelj POT SRCA (soba 029) \nKDAJ: sobota\, 23.10.21\, ob 10.00 uri \nCENA: 150 EUR \nPRIJAVA: milena.matko@siol.net \nPRIPRAVA: povežimo se s svojo dušo in začutimo\, ali smo bili kdaj v tem ali preteklih življenjih spolno ali kako drugače zlorabljeni mi ali kdo od naših prednikov/naslednikov ter kakšne posledice čutimo tako na čustvenem\, fizičnem kot mentalnem in dušnem nivoju \n  \nDobrodošli tudi vaši znanci\, prijatelji oz. osebe\, za katere čutite\, da jim bo delavnica prinesla ljubeč blagoslov. \nS spoštovanjem in ljubeznijo\, \nMilena Matko
URL:https://www.milenamatko.com/dogodki/delavnica-razresevanje-spolnih-zlorab/
LOCATION:Tempelj POT SRCA\, Glavni trg 24\, Novo mesto\, 8000\, Slovenia
CATEGORIES:Delavnica
ATTACH;FMTTYPE=image/jpeg:https://www.milenamatko.com/wp-content/uploads/2018/11/1005570574296712592500245982361n.jpg
ORGANIZER;CN="Milena Matko":MAILTO: milena.matko@siol.net
END:VEVENT
END:VCALENDAR