BEGIN:VCALENDAR
VERSION:2.0
PRODID:-//POT SRCA - ECPv6.15.20//NONSGML v1.0//EN
CALSCALE:GREGORIAN
METHOD:PUBLISH
X-WR-CALNAME:POT SRCA
X-ORIGINAL-URL:https://www.milenamatko.com
X-WR-CALDESC:Dogodki za POT SRCA
REFRESH-INTERVAL;VALUE=DURATION:PT1H
X-Robots-Tag:noindex
X-PUBLISHED-TTL:PT1H
BEGIN:VTIMEZONE
TZID:Europe/Ljubljana
BEGIN:DAYLIGHT
TZOFFSETFROM:+0100
TZOFFSETTO:+0200
TZNAME:CEST
DTSTART:20200329T010000
END:DAYLIGHT
BEGIN:STANDARD
TZOFFSETFROM:+0200
TZOFFSETTO:+0100
TZNAME:CET
DTSTART:20201025T010000
END:STANDARD
BEGIN:DAYLIGHT
TZOFFSETFROM:+0100
TZOFFSETTO:+0200
TZNAME:CEST
DTSTART:20210328T010000
END:DAYLIGHT
BEGIN:STANDARD
TZOFFSETFROM:+0200
TZOFFSETTO:+0100
TZNAME:CET
DTSTART:20211031T010000
END:STANDARD
BEGIN:DAYLIGHT
TZOFFSETFROM:+0100
TZOFFSETTO:+0200
TZNAME:CEST
DTSTART:20220327T010000
END:DAYLIGHT
BEGIN:STANDARD
TZOFFSETFROM:+0200
TZOFFSETTO:+0100
TZNAME:CET
DTSTART:20221030T010000
END:STANDARD
END:VTIMEZONE
BEGIN:VEVENT
DTSTART;TZID=Europe/Ljubljana:20211204T100000
DTEND;TZID=Europe/Ljubljana:20211204T190000
DTSTAMP:20260423T034425
CREATED:20190210T153929Z
LAST-MODIFIED:20210811T080827Z
UID:5077-1638612000-1638644400@www.milenamatko.com
SUMMARY:Delavnica »JAZ\, HČI MOJEGA OČETA«
DESCRIPTION:»Blagor tistim\, ki Očetje so. Naj vse več jih bo …« \n  \nOče je v življenju hčerke prva in najpomembnejša oseba za potrditev njene ženskosti\, za izoblikovanje osebnosti. Oče je tisti\, ki hčerki da občutek varnosti in stabilnosti\, jo s svojim zgledom nauči\, kako se odzivati na izzive zunanjega sveta. Oče odločilno vpliva na hčerino izbiro partnerja\, je njena prva ljubezen\, vir odločnosti\, spoštovanja in časti.\nTako srčno vabljene na delavnico »Jaz\, hči mojega očeta«\, na kateri se bomo poglobile v odnos s svojim očetom in drugimi predniki\, pogledale\, na katerih področjih svojega očeta še ne vidimo realno oz. kaj imamo z njim še nerazrešenega\, kaj nam onemogoča\, da bi zasijale v svoji ženskosti. Začutile bomo tudi\, kako nas oče podpira na naši poti rasti\, kako nam pomaga izpolnjevati naše poslanstvo. \n  \nKJE: Ljubljana\, Kotnikova ulica 28\, Tempelj POT SRCA (soba 029)\nKDAJ: sobota\, 04.12.21\, ob 10.00 uri\nCENA: 150 EUR\nPRIJAVE: milena.matko@siol.net\nPRIPRAVA NA DELAVNICO: \npreberimo knjigo »Močni očetje\, močne hčere« avtorice Meg Meeker\, ki je sicer namenjena očetom kot pomoč pri vzgoji hčera\, a nam da odličen vpogled v to\, kako naj bi oče ravnal\, da bi se lahko razvile v odgovorne odrasle ženske. Zato ob koncu vsakega izmed desetih poglavij premislimo in zapišimo\, kako je naš oče dejansko ravnal oz. kako bi si želele\, da bi. Odgovorimo na vprašanja:\no Ali se je oče zavedal\, da je najpomembnejši moški našega življenja\, da potrebujemo njegovo moč\, pogum\, podporo na poti rasti?\no Je znal biti naš junak\, naš stanoviten vodja in zaščitnik?\no Ali mu je bilo jasno\, da je naša prva ljubezen\, se je zavedal\, da bomo vse moške našega življenja primerjale z njim?\no Nas je naučil ponižnosti in spoštljivosti?\no Nam je dal zgled\, kako poskrbeti za zaščito\, postaviti meje\, reči »ne«?\no Nas je naučil odločnosti in realnega pogleda na življenje?\no Kako je vplival na našo izbiro partnerja in odnose z moškimi v našem življenju nasploh?\no Kakšen je bil njegov odnos do Boga\, duše oz. duhovnega sveta?\no Nas je naučil\, kako vztrajati\, si prizadevati za to\, kar nam veliko pomeni?\no Je oče vzpostavil povezavo z nami\, nam dal občutek prisotnosti?\npreberimo knjigo »Ranjena ženska« avtorice Linde Schierse Leonard in začutimo arhetipska ekstrema\, v katera se ženske ob šibkem oz. čustveno hladnem in odsotnem očetu razvijemo: puella – večna deklica\, ki ostaja nemočna in odvisna\, nesposobna delovati in dokončati stvari\, podrejena moškim ali pa amazonka\, ki odtujena od svoje ženstvenosti deluje na bojevit\, moški način. Odgovorimo na vprašanja:\no Katerega izmed arhetipov puelle – večne deklice prepoznamo pri sebi: ljubka punčka\, deklica iz porcelana\, visokoleteča Dona Juana ali izločenka?\no Kateri izmed obrazov amazonke nam je najbližji: zvezdnica\, ubogljiva hči\, mučenica ali kraljica bojevnica?\no Kako doživljamo svojega notranjega moškega – ali prepoznamo v sebi vidike perverznega starca in jeznega dečka oz. tepčka?\no Si dovolimo uporabiti bolečino\, divjo jezo in prelivanje solz\, da bi pozdravile svoje rane?\no Kaj nam pomeni izraz »moškost« in katere vrednote oz. lastnosti bi si želele\, da bi imel naš oče oz. notranji moški?\no Kaj nam pomeni izraz »ženskost« in katere vrednote oz. lastnosti naj bi imela naša mama oz. notranja ženska? \n  \nDobrodošle tudi vaše znanke\, prijateljice\, sorodnice oz. vse ženske\, za katere čutite\, da jim bodo delavnice prinesle zadovoljstvo ter ljubeč blagoslov. \nS spoštovanjem in ljubeznijo\,\nMilena Matko
URL:https://www.milenamatko.com/dogodki/delavnica-ce-skripa-med-hcerjo-in-materjo/
LOCATION:Tempelj POT SRCA\, Glavni trg 24\, Novo mesto\, 8000\, Slovenia
CATEGORIES:Delavnica
ATTACH;FMTTYPE=image/jpeg:https://www.milenamatko.com/wp-content/uploads/2019/02/Lepota32-013.jpg
ORGANIZER;CN="Milena Matko":MAILTO: milena.matko@siol.net
END:VEVENT
END:VCALENDAR