BEGIN:VCALENDAR
VERSION:2.0
PRODID:-//POT SRCA - ECPv6.15.20//NONSGML v1.0//EN
CALSCALE:GREGORIAN
METHOD:PUBLISH
X-WR-CALNAME:POT SRCA
X-ORIGINAL-URL:https://www.milenamatko.com
X-WR-CALDESC:Dogodki za POT SRCA
REFRESH-INTERVAL;VALUE=DURATION:PT1H
X-Robots-Tag:noindex
X-PUBLISHED-TTL:PT1H
BEGIN:VTIMEZONE
TZID:Europe/Ljubljana
BEGIN:DAYLIGHT
TZOFFSETFROM:+0100
TZOFFSETTO:+0200
TZNAME:CEST
DTSTART:20210328T010000
END:DAYLIGHT
BEGIN:STANDARD
TZOFFSETFROM:+0200
TZOFFSETTO:+0100
TZNAME:CET
DTSTART:20211031T010000
END:STANDARD
BEGIN:DAYLIGHT
TZOFFSETFROM:+0100
TZOFFSETTO:+0200
TZNAME:CEST
DTSTART:20220327T010000
END:DAYLIGHT
BEGIN:STANDARD
TZOFFSETFROM:+0200
TZOFFSETTO:+0100
TZNAME:CET
DTSTART:20221030T010000
END:STANDARD
BEGIN:DAYLIGHT
TZOFFSETFROM:+0100
TZOFFSETTO:+0200
TZNAME:CEST
DTSTART:20230326T010000
END:DAYLIGHT
BEGIN:STANDARD
TZOFFSETFROM:+0200
TZOFFSETTO:+0100
TZNAME:CET
DTSTART:20231029T010000
END:STANDARD
END:VTIMEZONE
BEGIN:VEVENT
DTSTART;TZID=Europe/Ljubljana:20221203T100000
DTEND;TZID=Europe/Ljubljana:20221203T190000
DTSTAMP:20260422T080558
CREATED:20180624T125927Z
LAST-MODIFIED:20220518T072834Z
UID:4473-1670061600-1670094000@www.milenamatko.com
SUMMARY:Delavnica »SPREJEMAM BOGASTVO«
DESCRIPTION:»BOGastvo – sprejemam te z odsevom sreče v očeh\, sijočih iskric ljubezni v dlaneh.« \n  \nLjudje si v svoje življenje na vse načine prizadevamo privabiti denar\, ustvariti premoženje\, po katerem hrepeni naša duša. A po drugi strani smo v povezavi z denarjem polni negativnih prepričanj\, jezni smo nanj\, povzroča nam neskončno skrbi in izčrpanosti. Pogosto nas je strah obilja\, otepamo se s pomanjkanjem\, z vzorci revščine\, ki smo jih dobili po prednikih … \nZato ljubeče vabljeni na delavnico »SPREJEMAM BOGASTVO«\, na kateri se bomo v polnosti posvetili energiji denarja\, zlata in premoženja ter odstranjevali ovire\, ki nam onemogočajo ustvariti blaginjo. V praktičnem delu bomo aktivirali svojo moč ustvarjanja. \n  \nKJE: Ljubljana\, Kotnikova ulica 28\, Tempelj POT SRCA (soba 029) \nKDAJ: sobota\, 03.12.22\, ob 10.00 uri \nCENA: 220 EUR \nPRIJAVA: milena.matko@siol.net \nPRIPRAVE NA DELAVNICO: \n1. Vzemimo v roke bankovec in zapišimo občutke\, ki pridejo na površje\nV roke vzemimo bankovec za 100 ali 200 EUR ter ga držimo v rokah najmanj 15 min. Bodimo pozorni na to\, kaj se dogaja v našem telesu\, mislih ter kakšni občutki vrejo na površje. Po zaključku si slednje zapišimo.\n2. Zapišimo vsa prepričanja\, ki jih imamo na temo denarja oz. bogastva\nPovsem iskreno zapišimo\, kakšna prepričanja smo si skozi zgodovino ustvarili o denarju\, zlatu\, premoženju:\n kakšne izkušnje\, povezane z denarjem\, smo dobili v tem življenju od spočetja dalje\n kakšen pogled na premoženje imajo naši starši\, bratje in sestre\, sorodniki\, naš partner in njegova družina\n kakšne podedovane spomine\, vezane na bogastvo/revščino\, imamo s strani očetovih in maminih prednikov\n kako na naše pridobivanje premoženja vpliva okolje\, v katerem živimo (vključno z razmerami v državi\, spomini slovenskega naroda\, odnosom cerkvenih institucij in duhovnosti do bogastva …)\n kakšna sporočila glede premoženja dobivamo iz medijev\n kaj smo na temo premoženja doživljali v preteklih življenjih …\nBodimo pozorni zlasti na to\, kakšne odločitve glede denarja oz. bogastva smo sprejeli bodisi v tem\, bodisi v preteklih življenjih (npr. denarja nočem\, ker je družbeno nevarno biti bogat ali ker me je denar pokvaril ali ker je bil pridobljen z nečednimi posli ali ker so mi ga ukradli ali ker so me zaradi denarja ubili ali ker se je partner poročil z mano samo zaradi denarja …).\n3. V mislih se prestavimo na razkošno posestvo\, ki je v naši lasti in zapišimo občutke\nZaprimo oči\, nekajkrat globoko vdihnimo in se v mislih prestavimo na razkošno posestvo v vrednosti najmanj 100 mio EUR\, ki je v naši zasebni lasti. Vzemimo si vsaj 30 min časa in si temeljito oglejmo celotno premoženje (hiša\, notranja oprema\, vrt\, avto …). Bodimo pozorni na to\, kaj se dogaja v našem telesu\, mislih ter kakšni občutki prihajajo na površje (ali se nam zdi nemogoče\, da bi tovrstno bogastvo dejansko ustvarili\, ali nas je strah slednjega\, ali se nam posestvo zdi preveč »materialistično« in nepotrebno\, ali se počutimo krive\, ali nas je sram\, da bi živeli v takšnem razkošju …). Po zaključku si slednje zapišimo.\n4. Narišimo svoje premoženje\nVzemimo list papirja in svinčnik\, zaprimo oči in z zaprtimi očmi narišimo naše premoženje. Dovolimo roki\, da nas vodi brez spraševanja\, kako bo videti »rezultat«. Risbo prinesimo s seboj. \n  \nDobrodošli tudi vaši znanci\, prijatelji oz. osebe\, za katere čutite\, da jim bo delavnica prinesla ljubeč blagoslov. \n  \nZ ljubeznijo in spoštovanjem\, \nMilena Matko
URL:https://www.milenamatko.com/dogodki/delavnica-sprejemam-bogastvo-2/
LOCATION:Tempelj POT SRCA\, Glavni trg 24\, Novo mesto\, 8000\, Slovenia
CATEGORIES:Delavnica
ATTACH;FMTTYPE=image/jpeg:https://www.milenamatko.com/wp-content/uploads/2018/11/lepota45066.jpg
ORGANIZER;CN="Milena Matko":MAILTO: milena.matko@siol.net
END:VEVENT
END:VCALENDAR