BEGIN:VCALENDAR
VERSION:2.0
PRODID:-//POT SRCA - ECPv6.15.20//NONSGML v1.0//EN
CALSCALE:GREGORIAN
METHOD:PUBLISH
X-ORIGINAL-URL:https://www.milenamatko.com
X-WR-CALDESC:Dogodki za POT SRCA
REFRESH-INTERVAL;VALUE=DURATION:PT1H
X-Robots-Tag:noindex
X-PUBLISHED-TTL:PT1H
BEGIN:VTIMEZONE
TZID:Europe/Ljubljana
BEGIN:DAYLIGHT
TZOFFSETFROM:+0100
TZOFFSETTO:+0200
TZNAME:CEST
DTSTART:20210328T010000
END:DAYLIGHT
BEGIN:STANDARD
TZOFFSETFROM:+0200
TZOFFSETTO:+0100
TZNAME:CET
DTSTART:20211031T010000
END:STANDARD
BEGIN:DAYLIGHT
TZOFFSETFROM:+0100
TZOFFSETTO:+0200
TZNAME:CEST
DTSTART:20220327T010000
END:DAYLIGHT
BEGIN:STANDARD
TZOFFSETFROM:+0200
TZOFFSETTO:+0100
TZNAME:CET
DTSTART:20221030T010000
END:STANDARD
BEGIN:DAYLIGHT
TZOFFSETFROM:+0100
TZOFFSETTO:+0200
TZNAME:CEST
DTSTART:20230326T010000
END:DAYLIGHT
BEGIN:STANDARD
TZOFFSETFROM:+0200
TZOFFSETTO:+0100
TZNAME:CET
DTSTART:20231029T010000
END:STANDARD
END:VTIMEZONE
BEGIN:VEVENT
DTSTART;TZID=Europe/Ljubljana:20220519T170000
DTEND;TZID=Europe/Ljubljana:20220519T210000
DTSTAMP:20260426T050140
CREATED:20211026T180737Z
LAST-MODIFIED:20211026T180737Z
UID:5799-1652979600-1652994000@www.milenamatko.com
SUMMARY:Obred POLNE LUNE (Čakre; kronska čakra)
DESCRIPTION:»Življenje – neustavljivo slo\, ki gori\, oplaja\, žari v čaru prerojevanja\, ustvarjanja novega sveta.  \nObčutek živosti\, ko svet ti pod nogami leži\, siješ v soju moči\, veš\, da zmoreš vse\, premikaš gore in dole.« \n  \nPovabimo svoje srce na obred polne lune\, na katerem se najprej kratko posvetimo sporočilom\, ki jih ima tokratna polna luna za nas\, nato pa se ukvarjamo s temeljitim čiščenjem in aktiviranjem posameznih primarnih in sekundarnih čaker\, ki nas povezujejo z zemljino in vesoljno energijo.\n \n18 čaker: zemljina zvezda\, stopala\, kolena\, korenska čakra\, sakralna čakra\, popkovna čakra\, sončni pletež\, srčna čakra\, kozmično srce\, ramena\, komolci\, dlani\, kavzalna čakra/univerzalno srce\, grlena čakra\, tretje oko\, kronska čakra\, dušna zvezda\, zvezdna vrata. \nBeseda čakra izhaja iz sanskrta in pomeni kolo\, krog\, tudi kolo življenja. Čakre so neke vrste energijski centri oz. središča moči\, ki nas povezujejo z vesoljno energijo. Vsaka od čaker je povezana tudi z njej odgovarjajočimi organi\, živčnimi vozlišči ter žlezami v našem fizičnem telesu. \nKo imamo čakre v polnosti prebujene\, se v nas oblikuje brezmejna moč\, zaživimo svoje najvišje talente in darove\, postanemo svobodni in odgovorni gospodarji svojih življenj. Ukoreninimo se in povežemo z modrostjo vesolja\, zavedamo se\, kdo v resnici smo in na vsakem koraku prejemamo blagoslove božje milosti. \nPredvideni termini do poletja: 20.01.22\, 17.02.22\, 17.03.22\, 21.04.22\, 19.05.22 in 16.06.22. \n  \nKJE: Ljubljana\, Kotnikova ulica 28\, Tempelj POT SRCA (soba 029) \nKDAJ: četrtek\, 19.05.22\, ob 17.00 uri \nCENA: 80 EUR \nPRIJAVA: milena.matko@siol.net \n  \nLjudje od nekdaj izvajamo obrede\, saj le-ti v dogodke vsakdanjika (rojstvo otroka\, poroka\, smrt\, prihod polne lune\, najkrajše ali najdaljše noči\, nastop novega letnega časa …) vnesejo duhovni vidik. Pričarajo nam vzdušje svetosti in hvaležnosti\, medsebojne povezanosti in radosti. \nNaši predniki so srčno častili luno\, ki iz nas izvablja poezijo\, povzroča morsko plimo in oseko. Luninim ciklom mnoge živalske vrste prilagajajo svojo rast in selitve\, kmetje in vrtnarji si s poznavanjem luninega ritma pomagajo pri sajenju\, obrezovanju ter gojenju rastlin. V svetovnih religijah s pomočjo lune določajo verske praznike – krščanska velika noč se praznuje v nedeljo po prvi polni luni po pomladanskem enakonočju. Ramadan je določen z luno\, enako tudi židovski pasha ali Budov rojstni dan. \nV ljudeh polna luna prebuja globoka čustva\, odstre tančice vzporednih svetov\, pomaga prizemljiti naše vizije. Ženske smo nekdaj imele svoje mesečne cikle usklajene z luno – ob prazni luni je bil čas čiščenja\, praznjenja maternice z mesečnim krvavenjem in odstranjevanja vsega\, kar se je odvečnega nabralo v naših dušah in telesih; ob polni luni je nastopila ovulacija\, magični kreativni čas za spočetje novih projektov\, idej\, otrok …\nDovolimo si spet začutiti moč polne lune in praznovati razcvet svoje ženskosti in moškosti. \n  \nDobrodošli tudi vaši znanci\, prijatelji oz. osebe\, za katere čutite\, da jim bo delavnica prinesla zadovoljstvo ter ljubeč blagoslov. \n  \nZ ljubeznijo in spoštovanjem\, \nMilena Matko
URL:https://www.milenamatko.com/dogodki/obred-polne-lune-cakre-kronska-cakra/
LOCATION:Tempelj POT SRCA\, Glavni trg 24\, Novo mesto\, 8000\, Slovenia
CATEGORIES:Obred
ATTACH;FMTTYPE=image/jpeg:https://www.milenamatko.com/wp-content/uploads/2020/09/Lepota17-080.jpg
ORGANIZER;CN="Milena Matko":MAILTO: milena.matko@siol.net
END:VEVENT
END:VCALENDAR