BEGIN:VCALENDAR
VERSION:2.0
PRODID:-//POT SRCA - ECPv6.15.20//NONSGML v1.0//EN
CALSCALE:GREGORIAN
METHOD:PUBLISH
X-WR-CALNAME:POT SRCA
X-ORIGINAL-URL:https://www.milenamatko.com
X-WR-CALDESC:Dogodki za POT SRCA
REFRESH-INTERVAL;VALUE=DURATION:PT1H
X-Robots-Tag:noindex
X-PUBLISHED-TTL:PT1H
BEGIN:VTIMEZONE
TZID:Europe/Ljubljana
BEGIN:DAYLIGHT
TZOFFSETFROM:+0100
TZOFFSETTO:+0200
TZNAME:CEST
DTSTART:20240331T010000
END:DAYLIGHT
BEGIN:STANDARD
TZOFFSETFROM:+0200
TZOFFSETTO:+0100
TZNAME:CET
DTSTART:20241027T010000
END:STANDARD
BEGIN:DAYLIGHT
TZOFFSETFROM:+0100
TZOFFSETTO:+0200
TZNAME:CEST
DTSTART:20250330T010000
END:DAYLIGHT
BEGIN:STANDARD
TZOFFSETFROM:+0200
TZOFFSETTO:+0100
TZNAME:CET
DTSTART:20251026T010000
END:STANDARD
BEGIN:DAYLIGHT
TZOFFSETFROM:+0100
TZOFFSETTO:+0200
TZNAME:CEST
DTSTART:20260329T010000
END:DAYLIGHT
BEGIN:STANDARD
TZOFFSETFROM:+0200
TZOFFSETTO:+0100
TZNAME:CET
DTSTART:20261025T010000
END:STANDARD
END:VTIMEZONE
BEGIN:VEVENT
DTSTART;TZID=Europe/Ljubljana:20251002T170000
DTEND;TZID=Europe/Ljubljana:20251002T210000
DTSTAMP:20260423T135155
CREATED:20220926T185304Z
LAST-MODIFIED:20250604T101720Z
UID:5893-1759424400-1759438800@www.milenamatko.com
SUMMARY:Obred LUNE (Obredi prehoda; pogreb)
DESCRIPTION:»Življenje – predajam se ti\,  \nnaj duša moja odločno vodi me skozi dneve in noči.« \n  \nLjudje od nekdaj izvajamo obrede\, saj le-ti v dogodke vsakdanjika (rojstvo otroka\, poroka\, smrt\, nastop polne lune ali najdaljše noči\, pričetek novega letnega časa …) vnesejo duhovni vidik. Pričarajo nam vzdušje svetosti in hvaležnosti\, medsebojne povezanosti in radosti. Zato ljubeče vabljeni na obred lune\, na katerem se najprej kratko posvetimo sporočilom\, ki jih ima tokratna luna za nas\, nato pa izvedemo enega izmed obredov prehoda\, ki ustreza posamezni čakri oz. obdobju našega življenja. Vsak posamezen obred nam prinese obilo blagoslovov\, odpre vrata moči\, da živimo in ustvarjamo. \n\n\n\nObred krsta\nKrst predstavlja praznovanje in sprejem svojega življenja\, odgovornost za bivanje na našem čudovitem planetu. Vsebuje informacije\, ki nas ukoreninjajo in dajo pravico do obstoja. Krst nam pomaga\, da ozdravimo boleče rane\, povezane s primarno družino\, domom in okoljem\, v katerem smo odraščali\, da zopet začutimo življenje kot čudovito darilo. Prebudi hvaležnost\, da obstajamo in omogoča milosti\, da preplavi naše bivanje.\nObred obhajila\nObhajilo omogoči zlitost z božanskim\, prinaša ljubezen bratstva in sestrstva. Pomaga nam\, da se osredotočimo na vzpostavitev zdravega in ljubečega odnosa do denarja/premoženja\, moči in spolnosti. Prinaša nam občutek varnosti ter daje zagotovilo\, da lahko tudi v povsem nemogočih situacijah najdemo rešitev. Gre za postopek vračanja moči v odnosih in preprečevanje nadaljnje izgube svoje življenjske energije. Z delitvijo obhajila dojamemo\, kakšen je najgloblji namen posameznih ljudi\, ki so prišli v naše življenje.\nObred birme\nBirma je obred\, ki predstavlja prevzemanje polne odgovornosti za svoja dejanja in življenje v skladu s pravili časti. Povede nas na pot samospoštovanja in poštenosti\, pokaže sposobnosti prestati izzive fizičnega življenja in živeti po lastnih pravilih. Zahteva obljubo samim sebi\, da ne bomo zapravili svojega dostojanstva v zameno za materialne dobrine\, da bomo v sebi prebudili moč\, ki vodi k intuiciji in pogumu.\nObred poroke\nObred poroke je namenjen aktiviranju ljubezni do samih sebe – da se pričnemo ljubiti\, spoštovati in ceniti ter izkazovati čast samim sebi\, v dobrem in slabem\, dokler duša ne zapusti telesa. Da sprejmemo sami sebe takšne\, kot dejansko smo\, da poslušamo šepet svojega srca in najdemo notranji mir. Da prebudimo strast\, skrb zase in spoštovanje. Je obred zlitja duše\, pameti in telesa v celoto\, sveto partnerstvo notranjega moškega in ženske.\nObred spovedi\nSpoved omogoča\, da vse delčke svoje razpršene duše znova pokličemo nazaj v telo in jo usmerimo vase. Obred spovedi nam pomaga\, da se soočimo s svojo senčno platjo in v prihodnje ravnamo drugače\, odpremo vrata pravici in poštenosti. Pri spovedi pogledamo\, zaradi katerih odločitev oz. izbir se obsojamo in nam jemljejo energijo\, soočimo se z lažmi in krivdo ter odkrito priznamo svoje napake.\nObred posvečenja\nObred posvetitve nas povede na pot osebnega in duhovnega razvoja\, z njegovo pomočjo se prepustimo božjemu vodstvu\, vzpostavimo intimno povezavo z Bogom\, z milostjo. Namen posvečenja je duhovna zrelost\, prepoznava in uporaba svojih najvišjih talentov in darov\, sposobnost delovanja iz modrosti. Da se osvobodimo iluzij in v svoje telo povabimo zdravilno energijo\, ki v nas razvija ljubezen\, razumevanje\, sočutje\, radost\, optimizem\, pogum … Da se pričnemo osredotočati na to\, kar je v življenju resnično pomembno\, da naše delovanje postane sveto.\nObred pogreba\nObred pogreba\, ki sledi poslednjemu maziljenju\, nam pomaga\, da iz življenja spustimo vse\, kar je mrtvo\, da prenehamo svojo življenjsko energijo uporabljati za ohranjanje nečesa\, kar bi že davno moralo oditi od nas. Da sčistimo vso navlako preteklosti kot npr. konec odnosa\, otroštva in mladosti\, selitev\, travme\, bolezni\, splavi\, pričetek menstruacije ali menopavze\, smrt ljubljene osebe\, izguba zaposlitve\, odhod otrok od doma … Zavestno spustimo vse\, kar nam jemlje življenjsko energijo\, da se lahko povežemo z brezmejno silo božanskega. S tem dobimo neskončno moč\, da premagamo katerokoli oviro\, postanemo »nesmrtni«.\n\n\n\n  \nPredvideni termini srečanj do konca leta: 11.09\,25 in 02.10.25 \n  \nKJE: Novo mesto\, Glavni trg 24\, Tempelj POT SRCA (3. nadstropje) \nKDAJ: četrtek\, 02.10.25\, ob 17.00 uri \nCENA: 80 EUR \nPRIJAVA: milena.matko@siol.net \n  \nNaši predniki so srčno častili luno\, ki iz nas izvablja poezijo\, povzroča morsko plimo in oseko. Luninim ciklom mnoge živalske vrste prilagajajo svojo rast in selitve\, kmetje in vrtnarji si s poznavanjem luninega ritma pomagajo pri sajenju\, obrezovanju ter gojenju rastlin. V svetovnih religijah s pomočjo lune določajo verske praznike – krščanska velika noč se praznuje v nedeljo po prvi polni luni po pomladanskem enakonočju. Ramadan je določen z luno\, enako tudi židovski pasha ali Budov rojstni dan.\nV ljudeh polna luna prebuja globoka čustva\, odstre tančice vzporednih svetov\, pomaga prizemljiti naše vizije. Ženske smo nekdaj imele svoje mesečne cikle usklajene z luno – ob prazni luni je bil čas čiščenja\, praznjenja maternice z mesečnim krvavenjem in odstranjevanja vsega\, kar se je odvečnega nabralo v naših dušah; ob polni luni je nastopila ovulacija\, magični kreativni čas za spočetje novih projektov\, idej\, otrok …\nDovolimo si spet začutiti moč polne lune in praznovati razcvet svoje ženstvenosti in moškosti. \n  \nDobrodošli tudi vaši znanci\, prijatelji oz. osebe\, za katere čutite\, da jim bo delavnica prinesla zadovoljstvo ter ljubeč blagoslov. \n  \nZ ljubeznijo in spoštovanjem\, \nMilena Matko \n 
URL:https://www.milenamatko.com/dogodki/obred-polne-lune-zleze-hipofiza-ali-mozganski-privesek/
LOCATION:Tempelj POT SRCA\, Glavni trg 24\, Novo mesto\, 8000\, Slovenia
CATEGORIES:Obred
ATTACH;FMTTYPE=image/jpeg:https://www.milenamatko.com/wp-content/uploads/2016/01/Lepota21-031.jpg
ORGANIZER;CN="Milena Matko":MAILTO: milena.matko@siol.net
END:VEVENT
END:VCALENDAR